BEGIN:VCALENDAR
VERSION:2.0
PRODID:-//Walkerscott - ECPv6.15.17.1//NONSGML v1.0//EN
CALSCALE:GREGORIAN
METHOD:PUBLISH
X-WR-CALNAME:Walkerscott
X-ORIGINAL-URL:https://walkerscott.co
X-WR-CALDESC:Events for Walkerscott
REFRESH-INTERVAL;VALUE=DURATION:PT1H
X-Robots-Tag:noindex
X-PUBLISHED-TTL:PT1H
BEGIN:VTIMEZONE
TZID:Australia/Sydney
BEGIN:STANDARD
TZOFFSETFROM:+1100
TZOFFSETTO:+1000
TZNAME:AEST
DTSTART:20240406T160000
END:STANDARD
BEGIN:DAYLIGHT
TZOFFSETFROM:+1000
TZOFFSETTO:+1100
TZNAME:AEDT
DTSTART:20241005T160000
END:DAYLIGHT
BEGIN:STANDARD
TZOFFSETFROM:+1100
TZOFFSETTO:+1000
TZNAME:AEST
DTSTART:20250405T160000
END:STANDARD
BEGIN:DAYLIGHT
TZOFFSETFROM:+1000
TZOFFSETTO:+1100
TZNAME:AEDT
DTSTART:20251004T160000
END:DAYLIGHT
BEGIN:STANDARD
TZOFFSETFROM:+1100
TZOFFSETTO:+1000
TZNAME:AEST
DTSTART:20260404T160000
END:STANDARD
BEGIN:DAYLIGHT
TZOFFSETFROM:+1000
TZOFFSETTO:+1100
TZNAME:AEDT
DTSTART:20261003T160000
END:DAYLIGHT
BEGIN:STANDARD
TZOFFSETFROM:+1100
TZOFFSETTO:+1000
TZNAME:AEST
DTSTART:20270403T160000
END:STANDARD
BEGIN:DAYLIGHT
TZOFFSETFROM:+1000
TZOFFSETTO:+1100
TZNAME:AEDT
DTSTART:20271002T160000
END:DAYLIGHT
END:VTIMEZONE
BEGIN:VEVENT
DTSTART;TZID=Australia/Sydney:20260312T110000
DTEND;TZID=Australia/Sydney:20260312T113000
DTSTAMP:20260423T120313
CREATED:20260309T224520Z
LAST-MODIFIED:20260309T224558Z
UID:22853-1773313200-1773315000@walkerscott.co
SUMMARY:Fireside Chat: Turning data into donations - What are smart nonprofits doing differently in 2026?
DESCRIPTION: EVENT OVERVIEW\nJoin us to learn how better tools & AI are reshaping fundraising as we know it.\nHas this year felt a bit different when running your campaigns? Fundraising isn’t just harder – it’s fundamentally different. Donor behaviours have shifted\, acquisition is more expensive\, and internal teams are stretched thin\, even more so then usual. Many nonprofits are sitting on valuable data but lack the tools\, or time\, to turn it into donation action.\nThis 30-minute online Fireside Chat is for fundraisers and nonprofit tech leaders in Australia and New Zealand who are rethinking how they work in 2026. You’ll hear how organisations like yours are using purpose-built technology to simplify donor management and how they are tapping into AI to drive more relevant\, timely giving journeys. \nYou don’t need to be a data expert. Join our practical discussion on using smarter tools to make fundraising easier\, more strategic\, and your campaigns harder to ignore. \n			\n				Register Now\n			\n				\n				\n				\n				\n				KEY TAKEAWAYS\n\nWhy traditional CRMs and data strategies are holding fundraising teams back\nWhat a modern donor engagement stack looks like in 2026\nHow structured donor data enables more personalised\, higher-converting communications\nHow AI helps treat every donor like a major donor\, with timely\, tailored communications.\nPractical ways nonprofits are removing tech barriers to boost giving and reduce admin.\n\n			\n				\n				\n				\n				\n				WHY ATTEND\n\nYou’re drowning in data but still struggle to get the right insight at the right time\nYour team spends too much time pulling reports and lists\nYou want to grow recurring giving and donor lifetime value – but not sure how to do this with your system\nYou’re curious about using AI for fundraising\, but don’t know where to start\, or how to make it work for your cause\n\n			\n				Register Now\n			\n				\n				\n				\n				\n				EVENT HOSTS\nJoel CohenNonprofit Specialist\, Microsoft | Board Member \nHarry CuthbertPresales Consultant\, Walkerscott and Klevr Fundraising \nMatthew PaulSales\, Walkerscott and Klevr Fundraising \n			\n				\n				\n				\n				\n				Register for the webinar today!\nRegister Here: Click here. \nFor more information\, please contact us.
URL:https://walkerscott.co/event/fireside-chat-turning-data-into-donations-what-are-smart-nonprofits-doing-differently-in-2026/
LOCATION:Online
CATEGORIES:Fundraising,Webinar
ATTACH;FMTTYPE=image/webp:https://walkerscott.co/wp-content/uploads/2026/03/Fireside-Chat-Smarter-Fundraising-March-2026-Event.webp
ORGANIZER;CN="Walkerscott":MAILTO:hello@walkerscott.co
END:VEVENT
BEGIN:VEVENT
DTSTART;TZID=Australia/Sydney:20250909T113000
DTEND;TZID=Australia/Sydney:20250909T120000
DTSTAMP:20260423T120313
CREATED:20250730T233948Z
LAST-MODIFIED:20250917T021101Z
UID:21213-1757417400-1757419200@walkerscott.co
SUMMARY:Fireside Chat: Turning data into donations
DESCRIPTION: EVENT OVERVIEW\nWhat are smart nonprofits doing differently in 2025?\nHow better tools & AI are reshaping fundraising as we know it\nHas this year felt a bit different when running your campaigns? Fundraising isn’t just harder – it’s fundamentally different. Donor behaviours have shifted\, acquisition is more expensive\, and internal teams are stretched thin\, even more so then usual. Many nonprofits are sitting on valuable data but lack the tools\, or time\, to turn it into donation action. \nThis 30-minute online Fireside Chat is for fundraisers and nonprofit tech leaders in Australia and New Zealand who are rethinking how they work in 2025. You’ll hear how organisations like yours are using purpose-built technology to simplify donor management and how they are tapping into AI to drive more relevant\, timely giving journeys. \nYou don’t need to be a data expert. Join our practical discussion on using smarter tools to make fundraising easier\, more strategic\, and your campaigns harder to ignore. \n			\n				\n				\n				\n				\n				\n				\n			\n				\n				\n				\n				\n				KEY TAKEAWAYS\n\nWhy traditional CRMs and data strategies are holding fundraising teams back\nWhat a modern donor engagement stack looks like in 2025\nHow structured donor data enables more personalised\, higher-converting communications\nHow AI helps treat every donor like a major donor\, with timely\, tailored communications.\nPractical ways nonprofits are removing tech barriers to boost giving and reduce admin.\n\n			\n				\n				\n				\n				\n				WHY ATTEND\n\nYou’re drowning in data but still struggle to get the right insight at the right time\nYour team spends too much time pulling reports and lists\nYou want to grow recurring giving and donor lifetime value – but not sure how to do this with your system\nYou’re curious about using AI for fundraising\, but don’t know where to start\, or how to make it work for your cause\n\nWhether you’re leading fundraising strategy or managing the systems that support it\, this conversation will help you rethink what’s possible – and how to get there with the tools that fit your team.\n			\n				\n				\n				\n				\n				EVENT HOSTS\nJono WalkerChief Technology Officer (CTO)\, Walkerscott and Head of Product\, Klevr Fundraising \nJono leads Walkerscott’s technology strategy while also driving product innovation for Klevr Fundraising. With a background spanning IT\, consulting\, and entrepreneurship\, he brings a sharp focus on simplifying complexity and delivering impactful digital solutions. Passionate about enabling purpose-driven organisations\, Jono ensures Klevr Fundraising empowers not-for-profits to realise the full potential of their donor data and achieve greater outcomes. \nKatie DudleyPartnerships and Business Development Manager\, Dataro \nKatie has a background in tech and a focus on helping nonprofits use AI to fundraise more effectively. A former professional athlete\, she brings a competitive edge and collaborative mindset to her work. Katie is driven by a practical belief in using technology to support organisations making a real-world impact.
URL:https://walkerscott.co/event/fireside-chat-turning-data-into-donations/
LOCATION:Online
CATEGORIES:Fundraising,Webinar
ATTACH;FMTTYPE=image/webp:https://walkerscott.co/wp-content/uploads/2025/07/webinar-event-fire-turning-data-into-donations.webp
ORGANIZER;CN="Walkerscott":MAILTO:hello@walkerscott.co
END:VEVENT
END:VCALENDAR